BEGIN:VCALENDAR
VERSION:2.0
PRODID:-//FV Lienzingen 1949 e. V. - ECPv6.15.14//NONSGML v1.0//EN
CALSCALE:GREGORIAN
METHOD:PUBLISH
X-WR-CALNAME:FV Lienzingen 1949 e. V.
X-ORIGINAL-URL:https://fv-lienzingen.de
X-WR-CALDESC:Veranstaltungen für FV Lienzingen 1949 e. V.
REFRESH-INTERVAL;VALUE=DURATION:PT1H
X-Robots-Tag:noindex
X-PUBLISHED-TTL:PT1H
BEGIN:VTIMEZONE
TZID:Europe/Paris
BEGIN:DAYLIGHT
TZOFFSETFROM:+0100
TZOFFSETTO:+0200
TZNAME:CEST
DTSTART:20170326T010000
END:DAYLIGHT
BEGIN:STANDARD
TZOFFSETFROM:+0200
TZOFFSETTO:+0100
TZNAME:CET
DTSTART:20171029T010000
END:STANDARD
BEGIN:DAYLIGHT
TZOFFSETFROM:+0100
TZOFFSETTO:+0200
TZNAME:CEST
DTSTART:20180325T010000
END:DAYLIGHT
BEGIN:STANDARD
TZOFFSETFROM:+0200
TZOFFSETTO:+0100
TZNAME:CET
DTSTART:20181028T010000
END:STANDARD
BEGIN:DAYLIGHT
TZOFFSETFROM:+0100
TZOFFSETTO:+0200
TZNAME:CEST
DTSTART:20190331T010000
END:DAYLIGHT
BEGIN:STANDARD
TZOFFSETFROM:+0200
TZOFFSETTO:+0100
TZNAME:CET
DTSTART:20191027T010000
END:STANDARD
END:VTIMEZONE
BEGIN:VEVENT
DTSTART;VALUE=DATE:20180203
DTEND;VALUE=DATE:20180204
DTSTAMP:20260421T111731
CREATED:20180119T105348Z
LAST-MODIFIED:20180122T132438Z
UID:690-1517616000-1517702399@fv-lienzingen.de
SUMMARY:Kappenabend
DESCRIPTION:Fasching im Vereinsheim in Lienzingen. Eintritt frei! Beginn: 19:49 Uhr. \n 
URL:https://fv-lienzingen.de/event/kappenabend
LOCATION:FVL Vereinsheim\, Friedrich-Münch-Straße 35\, Mühlacker-Lienzingen\, 75417
END:VEVENT
BEGIN:VEVENT
DTSTART;TZID=Europe/Paris:20180203T130000
DTEND;TZID=Europe/Paris:20180203T144500
DTSTAMP:20260421T111731
CREATED:20180124T085738Z
LAST-MODIFIED:20180124T085738Z
UID:1002-1517662800-1517669100@fv-lienzingen.de
SUMMARY:Testspiel: 1. FC Ispringen - FVL
DESCRIPTION:Das erste Testspiel für unsere Aktiven vor der kommenden Rückrunde
URL:https://fv-lienzingen.de/event/testspiel-1-fc-ispringen-fvl
END:VEVENT
BEGIN:VEVENT
DTSTART;VALUE=DATE:20180211
DTEND;VALUE=DATE:20180212
DTSTAMP:20260421T111731
CREATED:20180124T085835Z
LAST-MODIFIED:20180124T085835Z
UID:1004-1518307200-1518393599@fv-lienzingen.de
SUMMARY:Testspiel: SV Büchenbronn - FVL
DESCRIPTION:
URL:https://fv-lienzingen.de/event/testspiel-sv-buechenbronn-fvl
END:VEVENT
BEGIN:VEVENT
DTSTART;VALUE=DATE:20180217
DTEND;VALUE=DATE:20180218
DTSTAMP:20260421T111731
CREATED:20180124T085917Z
LAST-MODIFIED:20180124T085917Z
UID:1006-1518825600-1518911999@fv-lienzingen.de
SUMMARY:Testspiel: Phönix Lomersheim - FVL
DESCRIPTION:
URL:https://fv-lienzingen.de/event/testspiel-phoenix-lomersheim-fvl
END:VEVENT
BEGIN:VEVENT
DTSTART;VALUE=DATE:20180223
DTEND;VALUE=DATE:20180224
DTSTAMP:20260421T111731
CREATED:20180124T090158Z
LAST-MODIFIED:20180124T090158Z
UID:1008-1519344000-1519430399@fv-lienzingen.de
SUMMARY:Kabinenfest der Aktiven
DESCRIPTION:Nach dem Training: Kabinenfest #2
URL:https://fv-lienzingen.de/event/kabinenfest-der-aktiven
END:VEVENT
END:VCALENDAR